BEGIN:VCALENDAR
VERSION:2.0
PRODID:-//Our Redeemer&#039;s Lutheran Church - ECPv6.15.20//NONSGML v1.0//EN
CALSCALE:GREGORIAN
METHOD:PUBLISH
X-ORIGINAL-URL:https://ourredeemers.net
X-WR-CALDESC:Events for Our Redeemer&#039;s Lutheran Church
REFRESH-INTERVAL;VALUE=DURATION:PT1H
X-Robots-Tag:noindex
X-PUBLISHED-TTL:PT1H
BEGIN:VTIMEZONE
TZID:America/Vancouver
BEGIN:DAYLIGHT
TZOFFSETFROM:-0800
TZOFFSETTO:-0700
TZNAME:PDT
DTSTART:20250309T100000
END:DAYLIGHT
BEGIN:STANDARD
TZOFFSETFROM:-0700
TZOFFSETTO:-0800
TZNAME:PST
DTSTART:20251102T090000
END:STANDARD
BEGIN:DAYLIGHT
TZOFFSETFROM:-0800
TZOFFSETTO:-0700
TZNAME:PDT
DTSTART:20260308T100000
END:DAYLIGHT
BEGIN:STANDARD
TZOFFSETFROM:-0700
TZOFFSETTO:-0800
TZNAME:PST
DTSTART:20261101T090000
END:STANDARD
BEGIN:DAYLIGHT
TZOFFSETFROM:-0800
TZOFFSETTO:-0700
TZNAME:PDT
DTSTART:20270314T100000
END:DAYLIGHT
BEGIN:STANDARD
TZOFFSETFROM:-0700
TZOFFSETTO:-0800
TZNAME:PST
DTSTART:20271107T090000
END:STANDARD
END:VTIMEZONE
BEGIN:VEVENT
DTSTART;TZID=America/Vancouver:20260801T100000
DTEND;TZID=America/Vancouver:20260801T170000
DTSTAMP:20260423T150226
CREATED:20260415T174620Z
LAST-MODIFIED:20260415T174620Z
UID:10025442-1785578400-1785603600@ourredeemers.net
SUMMARY:Ballard P-Patch 50 Years
DESCRIPTION:Celebrate the 50 year anniversary of the Ballard P-Patch with Art in the Garden.
URL:https://ourredeemers.net/event/ballard-p-patch-50-years/
LOCATION:P-Patch\, 8527 25th Ave NW\, Seattle\, Washington\, 98117
CATEGORIES:Community
ATTACH;FMTTYPE=image/jpeg:https://ourredeemers.net/wp-content/uploads/p-patch-50-years.jpg
END:VEVENT
END:VCALENDAR